0.2500000000
0.0000000000
0.0000000000
-0.2500000000
476507.1250000000
384964.6250000000
