0.2500000000
0.0000000000
0.0000000000
-0.2500000000
473065.3750000000
382815.8750000000
