0.2500000000
0.0000000000
0.0000000000
-0.2500000000
473151.8750000000
385092.1250000000
