0.2500000000
0.0000000000
0.0000000000
-0.2500000000
486657.8750000000
386861.8750000000
