0.2500000000
0.0000000000
0.0000000000
-0.2500000000
486743.1250000000
389138.3750000000
