0.2500000000
0.0000000000
0.0000000000
-0.2500000000
483303.1250000000
386987.8750000000
