0.2500000000
0.0000000000
0.0000000000
-0.2500000000
483388.6250000000
389264.3750000000
