0.2500000000
0.0000000000
0.0000000000
-0.2500000000
479948.3750000000
387114.1250000000
