0.2500000000
0.0000000000
0.0000000000
-0.2500000000
480034.3750000000
389390.6250000000
