0.2500000000
0.0000000000
0.0000000000
-0.2500000000
476593.3750000000
387241.1250000000
