0.2500000000
0.0000000000
0.0000000000
-0.2500000000
476679.8750000000
389517.6250000000
