0.2500000000
0.0000000000
0.0000000000
-0.2500000000
473238.6250000000
387368.6250000000
