0.2500000000
0.0000000000
0.0000000000
-0.2500000000
473325.3750000000
389645.1250000000
