0.2500000000
0.0000000000
0.0000000000
-0.2500000000
486828.6250000000
391414.8750000000
