0.2500000000
0.0000000000
0.0000000000
-0.2500000000
486913.8750000000
393691.3750000000
