0.2500000000
0.0000000000
0.0000000000
-0.2500000000
483474.3750000000
391540.8750000000
