0.2500000000
0.0000000000
0.0000000000
-0.2500000000
483560.1250000000
393817.3750000000
