0.2500000000
0.0000000000
0.0000000000
-0.2500000000
480120.3750000000
391667.1250000000
