0.2500000000
0.0000000000
0.0000000000
-0.2500000000
480206.1250000000
393943.6250000000
