0.2500000000
0.0000000000
0.0000000000
-0.2500000000
476766.1250000000
391794.1250000000
