0.2500000000
0.0000000000
0.0000000000
-0.2500000000
476852.3750000000
394070.6250000000
