0.2500000000
0.0000000000
0.0000000000
-0.2500000000
473412.1250000000
391921.6250000000
