0.2500000000
0.0000000000
0.0000000000
-0.2500000000
473498.6250000000
394198.1250000000
