0.2500000000
0.0000000000
0.0000000000
-0.2500000000
486999.1250000000
395967.8750000000
