0.2500000000
0.0000000000
0.0000000000
-0.2500000000
487084.3750000000
398244.3750000000
