0.2500000000
0.0000000000
0.0000000000
-0.2500000000
483645.6250000000
396093.6250000000
