0.2500000000
0.0000000000
0.0000000000
-0.2500000000
483731.3750000000
398370.1250000000
