0.2500000000
0.0000000000
0.0000000000
-0.2500000000
480292.1250000000
396220.1250000000
