0.2500000000
0.0000000000
0.0000000000
-0.2500000000
480378.1250000000
398496.6250000000
