0.2500000000
0.0000000000
0.0000000000
-0.2500000000
476938.8750000000
396347.1250000000
