0.2500000000
0.0000000000
0.0000000000
-0.2500000000
477025.1250000000
398623.6250000000
