0.2500000000
0.0000000000
0.0000000000
-0.2500000000
473585.3750000000
396474.3750000000
