0.2500000000
0.0000000000
0.0000000000
-0.2500000000
473672.1250000000
398750.8750000000
