0.2500000000
0.0000000000
0.0000000000
-0.2500000000
487169.8750000000
400520.8750000000
