0.2500000000
0.0000000000
0.0000000000
-0.2500000000
487255.1250000000
402797.3750000000
