0.2500000000
0.0000000000
0.0000000000
-0.2500000000
483816.8750000000
400646.6250000000
