0.2500000000
0.0000000000
0.0000000000
-0.2500000000
483902.6250000000
402923.1250000000
