0.2500000000
0.0000000000
0.0000000000
-0.2500000000
480464.1250000000
400773.1250000000
