0.2500000000
0.0000000000
0.0000000000
-0.2500000000
480550.1250000000
403049.6250000000
