0.2500000000
0.0000000000
0.0000000000
-0.2500000000
477111.3750000000
400899.8750000000
