0.2500000000
0.0000000000
0.0000000000
-0.2500000000
477197.8750000000
403176.3750000000
