0.2500000000
0.0000000000
0.0000000000
-0.2500000000
473758.8750000000
401027.3750000000
