0.2500000000
0.0000000000
0.0000000000
-0.2500000000
473845.3750000000
403303.8750000000
