0.2500000000
0.0000000000
0.0000000000
-0.2500000000
500748.8750000000
404575.6250000000
