0.2500000000
0.0000000000
0.0000000000
-0.2500000000
500832.8750000000
406852.1250000000
