0.2500000000
0.0000000000
0.0000000000
-0.2500000000
497396.6250000000
404699.3750000000
