0.2500000000
0.0000000000
0.0000000000
-0.2500000000
497480.8750000000
406975.8750000000
