0.2500000000
0.0000000000
0.0000000000
-0.2500000000
494044.6250000000
404823.6250000000
