0.2500000000
0.0000000000
0.0000000000
-0.2500000000
494129.1250000000
407100.1250000000
