0.2500000000
0.0000000000
0.0000000000
-0.2500000000
490692.3750000000
404948.3750000000
